BEGIN:VCALENDAR
VERSION:2.0
PRODID:-// - ECPv6.15.20//NONSGML v1.0//EN
CALSCALE:GREGORIAN
METHOD:PUBLISH
X-ORIGINAL-URL:https://mrberingen.ch
X-WR-CALDESC:Veranstaltungen für 
REFRESH-INTERVAL;VALUE=DURATION:PT1H
X-Robots-Tag:noindex
X-PUBLISHED-TTL:PT1H
BEGIN:VTIMEZONE
TZID:UTC
BEGIN:STANDARD
TZOFFSETFROM:+0000
TZOFFSETTO:+0000
TZNAME:UTC
DTSTART:20250101T000000
END:STANDARD
END:VTIMEZONE
BEGIN:VEVENT
DTSTART;TZID=UTC:20260619T184500
DTEND;TZID=UTC:20260619T223000
DTSTAMP:20260423T065257
CREATED:20250619T160957Z
LAST-MODIFIED:20260328T161047Z
UID:4453-1781894700-1781908200@mrberingen.ch
SUMMARY:3. Liga Faustballmeisterschaft in Beringen
DESCRIPTION:Sportplatz Zimmerberg Beringen \nSpielbeginn 18:45 Uhr
URL:https://mrberingen.ch/event/3-liga-faustballmeisterschaft-in-beringen-2/
END:VEVENT
BEGIN:VEVENT
DTSTART;TZID=UTC:20260623T190000
DTEND;TZID=UTC:20260623T223000
DTSTAMP:20260423T065257
CREATED:20260328T161627Z
LAST-MODIFIED:20260328T161627Z
UID:4470-1782241200-1782253800@mrberingen.ch
SUMMARY:2. Liga Faustballmeisterschaft in Elgg
DESCRIPTION:Sportplatz Im See Elgg \nSpielbeginn 10:00 Uhr
URL:https://mrberingen.ch/event/2-liga-faustballmeisterschaft-in-elgg/
END:VEVENT
BEGIN:VEVENT
DTSTART;TZID=UTC:20260625T174500
DTEND;TZID=UTC:20260625T235900
DTSTAMP:20260423T065257
CREATED:20251230T101941Z
LAST-MODIFIED:20251230T101941Z
UID:4347-1782409500-1782431940@mrberingen.ch
SUMMARY:Velotour durch den Klettgau (falls jemand nicht Pétanque spielen möchte)
DESCRIPTION:Treffpunkt: 17:45 Uhr Busschleife / Brandplatz \nDanach gemeinsames Essen bei der Sporthalle
URL:https://mrberingen.ch/event/velotour-durch-den-klettgau-falls-jemand-nicht-petanque-spielen-moechte/
END:VEVENT
BEGIN:VEVENT
DTSTART;TZID=UTC:20260625T184500
DTEND;TZID=UTC:20260625T235900
DTSTAMP:20260423T065257
CREATED:20251230T101852Z
LAST-MODIFIED:20251230T101852Z
UID:4345-1782413100-1782431940@mrberingen.ch
SUMMARY:Pétanque Badi Parkplatz
DESCRIPTION:Treffpunkt: 18:45 Uhr Badi Parkplatz \nDanach gemeinsames Essen bei der Sporthalle
URL:https://mrberingen.ch/event/petanque-badi-parkplatz/
END:VEVENT
BEGIN:VEVENT
DTSTART;TZID=UTC:20260702T184500
DTEND;TZID=UTC:20260702T223000
DTSTAMP:20260423T065257
CREATED:20260328T161732Z
LAST-MODIFIED:20260328T161732Z
UID:4472-1783017900-1783031400@mrberingen.ch
SUMMARY:3. Liga Faustballmeisterschaft in Flurlingen
DESCRIPTION:Fussballplatz Flurlingen \nSpielbeginn 18:45 Uhr
URL:https://mrberingen.ch/event/3-liga-faustballmeisterschaft-in-flurlingen/
END:VEVENT
BEGIN:VEVENT
DTSTART;TZID=UTC:20260709T184500
DTEND;TZID=UTC:20260709T235900
DTSTAMP:20260423T065257
CREATED:20251230T122906Z
LAST-MODIFIED:20251230T122906Z
UID:4349-1783622700-1783641540@mrberingen.ch
SUMMARY:Minigolf Neuhausen
DESCRIPTION:Treffpunkt: 18:45 Uhr Busschleife / Brandplatz
URL:https://mrberingen.ch/event/minigolf-neuhausen-2/
END:VEVENT
BEGIN:VEVENT
DTSTART;TZID=UTC:20260716T183000
DTEND;TZID=UTC:20260716T235900
DTSTAMP:20260423T065257
CREATED:20251230T123003Z
LAST-MODIFIED:20251230T123003Z
UID:4351-1784226600-1784246340@mrberingen.ch
SUMMARY:Schwimmen\, Volleyball\, Essen
DESCRIPTION:Treffpunkt: 18:30 Uhr Badi Beringen
URL:https://mrberingen.ch/event/schwimmen-volleyball-essen-3/
END:VEVENT
BEGIN:VEVENT
DTSTART;TZID=UTC:20260723T183000
DTEND;TZID=UTC:20260723T235900
DTSTAMP:20260423T065257
CREATED:20251230T123046Z
LAST-MODIFIED:20251230T123046Z
UID:4354-1784831400-1784851140@mrberingen.ch
SUMMARY:Schwimmen\, Volleyball\, Essen
DESCRIPTION:Treffpunkt: 18:30 Uhr Badi Beringen
URL:https://mrberingen.ch/event/schwimmen-volleyball-essen-5/
END:VEVENT
BEGIN:VEVENT
DTSTART;TZID=UTC:20260730T183000
DTEND;TZID=UTC:20260730T235900
DTSTAMP:20260423T065257
CREATED:20251230T123043Z
LAST-MODIFIED:20251230T123043Z
UID:4353-1785436200-1785455940@mrberingen.ch
SUMMARY:Schwimmen\, Volleyball\, Essen
DESCRIPTION:Treffpunkt: 18:30 Uhr Badi Beringen
URL:https://mrberingen.ch/event/schwimmen-volleyball-essen-4/
END:VEVENT
BEGIN:VEVENT
DTSTART;TZID=UTC:20260806T184500
DTEND;TZID=UTC:20260806T235900
DTSTAMP:20260423T065257
CREATED:20251230T123157Z
LAST-MODIFIED:20251230T124638Z
UID:4357-1786041900-1786060740@mrberingen.ch
SUMMARY:Grillieren am Rhein
DESCRIPTION:Treffpunkt: 18:45 Uhr Busschleife / Brandplatz mit Velo \nAnmeldeschluss 22. Juli 2026
URL:https://mrberingen.ch/event/grillieren-am-rhein/
END:VEVENT
BEGIN:VEVENT
DTSTART;VALUE=DATE:20260808
DTEND;VALUE=DATE:20260809
DTSTAMP:20260423T065257
CREATED:20251230T123221Z
LAST-MODIFIED:20251230T123221Z
UID:4359-1786147200-1786233599@mrberingen.ch
SUMMARY:Klettgau-Faustballturnier Beringen
DESCRIPTION:
URL:https://mrberingen.ch/event/klettgau-faustballturnier-beringen-2/
END:VEVENT
BEGIN:VEVENT
DTSTART;TZID=UTC:20260811T184500
DTEND;TZID=UTC:20260811T223000
DTSTAMP:20260423T065257
CREATED:20260328T161853Z
LAST-MODIFIED:20260328T161853Z
UID:4474-1786473900-1786487400@mrberingen.ch
SUMMARY:3. Liga Faustballmeisterschaft in Thayngen
DESCRIPTION:Sportplatz Reckenwiese Thayngen \nSpielbeginn 18:45 Uhr
URL:https://mrberingen.ch/event/3-liga-faustballmeisterschaft-in-thayngen-2/
END:VEVENT
BEGIN:VEVENT
DTSTART;TZID=UTC:20260813T183000
DTEND;TZID=UTC:20260813T235900
DTSTAMP:20260423T065257
CREATED:20251230T123311Z
LAST-MODIFIED:20251230T123311Z
UID:4361-1786645800-1786665540@mrberingen.ch
SUMMARY:Speckessen in der Schönebueche
DESCRIPTION:Ab 18:30 Uhr Armin’s Hüttli
URL:https://mrberingen.ch/event/speckessen-in-der-schoenebueche-2/
END:VEVENT
BEGIN:VEVENT
DTSTART;TZID=UTC:20260817T184500
DTEND;TZID=UTC:20260817T220000
DTSTAMP:20260423T065257
CREATED:20260328T162956Z
LAST-MODIFIED:20260328T162956Z
UID:4484-1786992300-1787004000@mrberingen.ch
SUMMARY:3. Liga Faustballmeisterschaft in Schaffhausen
DESCRIPTION:Sportplatz Emmersberg Schaffhausen \nSpielbeginn 18:45 Uhr
URL:https://mrberingen.ch/event/3-liga-faustballmeisterschaft-in-schaffhausen-2/
END:VEVENT
BEGIN:VEVENT
DTSTART;TZID=UTC:20260819T190000
DTEND;TZID=UTC:20260819T230000
DTSTAMP:20260423T065257
CREATED:20260328T162545Z
LAST-MODIFIED:20260328T162545Z
UID:4482-1787166000-1787180400@mrberingen.ch
SUMMARY:Faustball Seniorenmeisterschaft in Elgg
DESCRIPTION:Sportplatz Im See Elgg \nSpielbeginn 19:00 Uhr
URL:https://mrberingen.ch/event/faustball-seniorenmeisterschaft-in-elgg-5/
END:VEVENT
BEGIN:VEVENT
DTSTART;TZID=UTC:20260820T184500
DTEND;TZID=UTC:20260820T235900
DTSTAMP:20260423T065257
CREATED:20251230T123357Z
LAST-MODIFIED:20251230T123357Z
UID:4363-1787251500-1787270340@mrberingen.ch
SUMMARY:Pétanque Eschheimertal\, mit Bewirtung
DESCRIPTION:Treffpunkt: 18:45Uhr Busschleife / Brandplatz
URL:https://mrberingen.ch/event/petanque-eschheimertal-mit-bewirtung-2/
END:VEVENT
BEGIN:VEVENT
DTSTART;TZID=UTC:20260822T100000
DTEND;TZID=UTC:20260822T140000
DTSTAMP:20260423T065257
CREATED:20260328T162007Z
LAST-MODIFIED:20260328T162007Z
UID:4476-1787392800-1787407200@mrberingen.ch
SUMMARY:2. Liga Faustballmeisterschaft in Jona
DESCRIPTION:Sportplatz Grünfeld Jona \nSpielbeginn 10:00 Uhr
URL:https://mrberingen.ch/event/2-liga-faustballmeisterschaft-in-jona/
END:VEVENT
BEGIN:VEVENT
DTSTART;TZID=UTC:20260827T182000
DTEND;TZID=UTC:20260827T230000
DTSTAMP:20260423T065257
CREATED:20240827T070110Z
LAST-MODIFIED:20260328T161136Z
UID:3980-1787854800-1787871600@mrberingen.ch
SUMMARY:3. Liga Faustballmeisterschaft in Beringen
DESCRIPTION:Sportplatz Zimmerberg Beringen \nSpielbeginn 18:45 Uhr
URL:https://mrberingen.ch/event/faustball-3-liga-meisterschaft-in-beringen-3/
END:VEVENT
BEGIN:VEVENT
DTSTART;VALUE=DATE:20260905
DTEND;VALUE=DATE:20260907
DTSTAMP:20260423T065257
CREATED:20251230T123437Z
LAST-MODIFIED:20260113T061135Z
UID:4365-1788566400-1788739199@mrberingen.ch
SUMMARY:Männerriegenreise
DESCRIPTION:Anmeldung bis 1. Juni erforderlich
URL:https://mrberingen.ch/event/maennerriegenreise-2/
END:VEVENT
BEGIN:VEVENT
DTSTART;TZID=UTC:20261001T184500
DTEND;TZID=UTC:20261001T235900
DTSTAMP:20260423T065257
CREATED:20251230T123531Z
LAST-MODIFIED:20251230T123531Z
UID:4367-1790880300-1790899140@mrberingen.ch
SUMMARY:Vollmondbummel Siblinger Randen
DESCRIPTION:Treffpunkt: 18:45Uhr Busschleife / Brandplatz
URL:https://mrberingen.ch/event/vollmondbummel-siblinger-randen/
END:VEVENT
BEGIN:VEVENT
DTSTART;TZID=UTC:20261008T193000
DTEND;TZID=UTC:20261008T235900
DTSTAMP:20260423T065257
CREATED:20251230T123626Z
LAST-MODIFIED:20251230T124402Z
UID:4369-1791487800-1791503940@mrberingen.ch
SUMMARY:Bowling Five\, Thayngen
DESCRIPTION:Treffpunkt: 19:30 Uhr Busschleife / Brandplatz \nAnmeldeschluss 27. September 2026
URL:https://mrberingen.ch/event/bowling-five-thayngen-3/
END:VEVENT
BEGIN:VEVENT
DTSTART;TZID=UTC:20261015T184500
DTEND;TZID=UTC:20261015T235900
DTSTAMP:20260423T065257
CREATED:20251230T123713Z
LAST-MODIFIED:20251230T123713Z
UID:4371-1792089900-1792108740@mrberingen.ch
SUMMARY:Wanderung Beringer Randen
DESCRIPTION:Treffpunkt: 18:45 Uhr Busschleife / Brandplatz
URL:https://mrberingen.ch/event/wanderung-beringer-randen/
END:VEVENT
BEGIN:VEVENT
DTSTART;VALUE=DATE:20261031
DTEND;VALUE=DATE:20261101
DTSTAMP:20260423T065257
CREATED:20251230T123735Z
LAST-MODIFIED:20260112T173351Z
UID:4373-1793404800-1793491199@mrberingen.ch
SUMMARY:Herbstwanderung Turnveteranen
DESCRIPTION:
URL:https://mrberingen.ch/event/herbstwanderung-turnveteranen-2/
END:VEVENT
BEGIN:VEVENT
DTSTART;TZID=UTC:20270109T184500
DTEND;TZID=UTC:20270109T235900
DTSTAMP:20260423T065257
CREATED:20251230T123829Z
LAST-MODIFIED:20251230T123829Z
UID:4375-1799520300-1799539140@mrberingen.ch
SUMMARY:Generalversammlung
DESCRIPTION:Treffpunkt: 18:30 Uhr Restaurant Gemeindehaus
URL:https://mrberingen.ch/event/generalversammlung/
END:VEVENT
END:VCALENDAR