BEGIN:VCALENDAR
VERSION:2.0
PRODID:-// - ECPv6.15.20//NONSGML v1.0//EN
CALSCALE:GREGORIAN
METHOD:PUBLISH
X-ORIGINAL-URL:https://mrberingen.ch
X-WR-CALDESC:Veranstaltungen für 
REFRESH-INTERVAL;VALUE=DURATION:PT1H
X-Robots-Tag:noindex
X-PUBLISHED-TTL:PT1H
BEGIN:VTIMEZONE
TZID:UTC
BEGIN:STANDARD
TZOFFSETFROM:+0000
TZOFFSETTO:+0000
TZNAME:UTC
DTSTART:20250101T000000
END:STANDARD
END:VTIMEZONE
BEGIN:VEVENT
DTSTART;TZID=UTC:20260205T193000
DTEND;TZID=UTC:20260205T235900
DTSTAMP:20260423T050904
CREATED:20250103T174441Z
LAST-MODIFIED:20251227T120019Z
UID:3823-1770319800-1770335940@mrberingen.ch
SUMMARY:Bowling Five\, Thayngen
DESCRIPTION:Treffpunkt: 19:30 Uhr Busschleife / Brandplatz \nAnmeldeschluss 24. Januar 2026
URL:https://mrberingen.ch/event/bowling-five-thayngen/
END:VEVENT
BEGIN:VEVENT
DTSTART;VALUE=DATE:20260207
DTEND;VALUE=DATE:20260209
DTSTAMP:20260423T050904
CREATED:20251230T100013Z
LAST-MODIFIED:20251230T100024Z
UID:4327-1770422400-1770595199@mrberingen.ch
SUMMARY:Skiweekend gemeinsam mit dem FTV Beringen
DESCRIPTION:
URL:https://mrberingen.ch/event/skiweekend-gemeinsam-mit-dem-ftv-beringen-2/
END:VEVENT
END:VCALENDAR