BEGIN:VCALENDAR
VERSION:2.0
PRODID:-// - ECPv6.15.20//NONSGML v1.0//EN
CALSCALE:GREGORIAN
METHOD:PUBLISH
X-ORIGINAL-URL:https://mrberingen.ch
X-WR-CALDESC:Veranstaltungen für 
REFRESH-INTERVAL;VALUE=DURATION:PT1H
X-Robots-Tag:noindex
X-PUBLISHED-TTL:PT1H
BEGIN:VTIMEZONE
TZID:UTC
BEGIN:STANDARD
TZOFFSETFROM:+0000
TZOFFSETTO:+0000
TZNAME:UTC
DTSTART:20240101T000000
END:STANDARD
END:VTIMEZONE
BEGIN:VEVENT
DTSTART;TZID=UTC:20260416T184500
DTEND;TZID=UTC:20260416T235900
DTSTAMP:20260423T011008
CREATED:20251230T100431Z
LAST-MODIFIED:20251230T100431Z
UID:4333-1776365100-1776383940@mrberingen.ch
SUMMARY:Badefahrt nach Zurzach
DESCRIPTION:Treffpunkt: 18:45 Uhr Busschleife / Brandplatz
URL:https://mrberingen.ch/event/badefahrt-nach-zurzach-2/
END:VEVENT
BEGIN:VEVENT
DTSTART;TZID=UTC:20260410T181500
DTEND;TZID=UTC:20260410T235900
DTSTAMP:20260423T011008
CREATED:20251230T100312Z
LAST-MODIFIED:20260112T173409Z
UID:4331-1775844900-1775865540@mrberingen.ch
SUMMARY:Boccia Langriet\, Neuhausen (mit Nachtessen)
DESCRIPTION:Treffpunkt: 18:15 Uhr Coop Beringen \nAnmeldeschluss 21. März 2026
URL:https://mrberingen.ch/event/boccia-langriet-neuhausen-mit-nachtessen-2/
END:VEVENT
BEGIN:VEVENT
DTSTART;VALUE=DATE:20260207
DTEND;VALUE=DATE:20260209
DTSTAMP:20260423T011008
CREATED:20251230T100013Z
LAST-MODIFIED:20251230T100024Z
UID:4327-1770422400-1770595199@mrberingen.ch
SUMMARY:Skiweekend gemeinsam mit dem FTV Beringen
DESCRIPTION:
URL:https://mrberingen.ch/event/skiweekend-gemeinsam-mit-dem-ftv-beringen-2/
END:VEVENT
BEGIN:VEVENT
DTSTART;TZID=UTC:20260205T193000
DTEND;TZID=UTC:20260205T235900
DTSTAMP:20260423T011008
CREATED:20250103T174441Z
LAST-MODIFIED:20251227T120019Z
UID:3823-1770319800-1770335940@mrberingen.ch
SUMMARY:Bowling Five\, Thayngen
DESCRIPTION:Treffpunkt: 19:30 Uhr Busschleife / Brandplatz \nAnmeldeschluss 24. Januar 2026
URL:https://mrberingen.ch/event/bowling-five-thayngen/
END:VEVENT
BEGIN:VEVENT
DTSTART;TZID=UTC:20260128T184500
DTEND;TZID=UTC:20260128T235900
DTSTAMP:20260423T011008
CREATED:20251227T115242Z
LAST-MODIFIED:20251227T120229Z
UID:4315-1769625900-1769644740@mrberingen.ch
SUMMARY:Wanderung Eschheimertal (mit Nachtessen)
DESCRIPTION:Treffpunkt: 18:45 Uhr Busschleife / Brandplatz
URL:https://mrberingen.ch/event/wanderung-eschheimertal-mit-nachtessen/
END:VEVENT
BEGIN:VEVENT
DTSTART;TZID=UTC:20260117T200000
DTEND;TZID=UTC:20260117T235900
DTSTAMP:20260423T011008
CREATED:20251227T115040Z
LAST-MODIFIED:20251227T115335Z
UID:4313-1768680000-1768694340@mrberingen.ch
SUMMARY:Abendunterhaltung der turnenden Vereine Beringen
DESCRIPTION:Das Chränzli 2026 steht vor der Tür. \n​Am 16. und 17. Januar 2026 laden wir euch herzlich zu unserer alljährlichen Abendunterhaltung. Diese steht ganz unter dem Motto «Ab ins Altersheim»! Unser Team für die Zwischennummern verabschiedet sich mit einem Knall in die Pension. Unserer Turnerinnen und Turner von klein bis gross werden dazu passende Aufführungen präsentieren. Es erwartet euch ein vielfältiger und attraktiver Abend.  \n​Wichtige Info: Es gibt kein Ticket-Vorverkauf. Die Tickets müssen alle an der Abendkasse gekauft werden. Vor Ort kann eine Person mehrere nummerierte Sitzplätze – auch für später erscheinende Personen – kaufen.  \n​1. Vorstellung  \nFreitag\, 16. Januar  \nTüröffnung: 18.30 Uhr  \nBeginn: 20.00 Uhr \nGewinnspiel mit attraktiven Preisen \nVerschiedene Verpflegungsmöglichkeiten \n​Tanzmusik mit dem Thurtalexpress und Barbetrieb nach der Show* \n​ \n2. Vorstellung:  \nSamstag\, 17. Januar \nTüröffnung 18.30 Uhr \nBeginn 20.00 Uhr  \nTombola mit attraktiven Preisen \nVerschiedene Verpflegungsmöglichkeiten \n​Tanzmusik mit dem Thurtalexpress und Barbetrieb nach der Show* \n​ \n*Einlass ab 18 Jahren (ab 16 mit STV-Ausweis)
URL:https://mrberingen.ch/event/abendunterhaltung-der-turnenden-vereine-beringen/
END:VEVENT
BEGIN:VEVENT
DTSTART;TZID=UTC:20260116T200000
DTEND;TZID=UTC:20260116T235900
DTSTAMP:20260423T011008
CREATED:20251227T115649Z
LAST-MODIFIED:20251230T123956Z
UID:4317-1768593600-1768607940@mrberingen.ch
SUMMARY:Abendunterhaltung der turnenden Vereine Beringen
DESCRIPTION:Das Chränzli 2026 steht vor der Tür. \n​Am 16. und 17. Januar 2026 laden wir euch herzlich zu unserer alljährlichen Abendunterhaltung. Diese steht ganz unter dem Motto «Ab ins Altersheim»! Unser Team für die Zwischennummern verabschiedet sich mit einem Knall in die Pension. Unserer Turnerinnen und Turner von klein bis gross werden dazu passende Aufführungen präsentieren. Es erwartet euch ein vielfältiger und attraktiver Abend.  \n​Wichtige Info: Es gibt kein Ticket-Vorverkauf. Die Tickets müssen alle an der Abendkasse gekauft werden. Vor Ort kann eine Person mehrere nummerierte Sitzplätze – auch für später erscheinende Personen – kaufen.  \n​1. Vorstellung  \nFreitag\, 16. Januar  \nTüröffnung: 18.30 Uhr  \nBeginn: 20.00 Uhr \nGewinnspiel mit attraktiven Preisen \nVerschiedene Verpflegungsmöglichkeiten \n​Tanzmusik mit dem Thurtalexpress und Barbetrieb nach der Show* \n​ \n2. Vorstellung:  \nSamstag\, 17. Januar \nTüröffnung 18.30 Uhr \nBeginn 20.00 Uhr  \nTombola mit attraktiven Preisen \nVerschiedene Verpflegungsmöglichkeiten \n​Tanzmusik mit dem Thurtalexpress und Barbetrieb nach der Show* \n​ \n*Einlass ab 18 Jahren (ab 16 mit STV-Ausweis)
URL:https://mrberingen.ch/event/abendunterhaltung-der-turnenden-vereine-beringen-2/
END:VEVENT
BEGIN:VEVENT
DTSTART;TZID=UTC:20260111T080000
DTEND;TZID=UTC:20260111T180000
DTSTAMP:20260423T011008
CREATED:20250111T093604Z
LAST-MODIFIED:20250828T093643Z
UID:4152-1768118400-1768154400@mrberingen.ch
SUMMARY:Faustball 3. Liga Hallenmeisterschaft in Beringen
DESCRIPTION:Spielbeginn: 08:00 Uhr \nSpielort: Sporthalle Beringen
URL:https://mrberingen.ch/event/faustball-3-liga-hallenmeisterschaft-in-beringen-3/
END:VEVENT
BEGIN:VEVENT
DTSTART;TZID=UTC:20260110T184500
DTEND;TZID=UTC:20260110T235900
DTSTAMP:20260423T011008
CREATED:20250103T174716Z
LAST-MODIFIED:20250103T174716Z
UID:3833-1768070700-1768089540@mrberingen.ch
SUMMARY:Generalversammlung mit anschliessendem Nachtessen + Jassturnier
DESCRIPTION:18:45 Uhr Rest. Gemeindehaus
URL:https://mrberingen.ch/event/generalversammlung-mit-anschliessendem-nachtessen-jassturnier/
END:VEVENT
BEGIN:VEVENT
DTSTART;TZID=UTC:20251214T080000
DTEND;TZID=UTC:20251214T180000
DTSTAMP:20260423T011008
CREATED:20241214T093521Z
LAST-MODIFIED:20250828T093600Z
UID:4150-1765699200-1765735200@mrberingen.ch
SUMMARY:Faustball 3. Liga Hallenmeisterschaft in Beringen
DESCRIPTION:Spielbeginn: 08:00 Uhr \nSpielort: Sporthalle Beringen
URL:https://mrberingen.ch/event/faustball-3-liga-hallenmeisterschaft-in-beringen-2/
END:VEVENT
BEGIN:VEVENT
DTSTART;TZID=UTC:20251206T120000
DTEND;TZID=UTC:20251206T190000
DTSTAMP:20260423T011008
CREATED:20241206T093647Z
LAST-MODIFIED:20250828T093740Z
UID:4154-1765022400-1765047600@mrberingen.ch
SUMMARY:Faustball Chlausturnier Hallau
DESCRIPTION:Turnhalle Hallau
URL:https://mrberingen.ch/event/faustball-chlausturnier-hallau/
END:VEVENT
BEGIN:VEVENT
DTSTART;VALUE=DATE:20251122
DTEND;VALUE=DATE:20251123
DTSTAMP:20260423T011008
CREATED:20250103T174642Z
LAST-MODIFIED:20250103T174642Z
UID:3831-1763769600-1763855999@mrberingen.ch
SUMMARY:Super-10-Kampf der Männerriege Beringen
DESCRIPTION:
URL:https://mrberingen.ch/event/super-10-kampf-der-maennerriege-beringen/
END:VEVENT
BEGIN:VEVENT
DTSTART;TZID=UTC:20251116T080000
DTEND;TZID=UTC:20251116T180000
DTSTAMP:20260423T011008
CREATED:20241116T093416Z
LAST-MODIFIED:20250828T093515Z
UID:4148-1763280000-1763316000@mrberingen.ch
SUMMARY:Faustball 3. Liga Hallenmeisterschaft in Beringen
DESCRIPTION:Spielbeginn: 08:00 Uhr \nSpielort: Sporthalle Beringen
URL:https://mrberingen.ch/event/faustball-3-liga-hallenmeisterschaft-in-beringen/
END:VEVENT
BEGIN:VEVENT
DTSTART;TZID=UTC:20251102T080000
DTEND;TZID=UTC:20251102T180000
DTSTAMP:20260423T011008
CREATED:20241102T093250Z
LAST-MODIFIED:20250828T093836Z
UID:4146-1762070400-1762106400@mrberingen.ch
SUMMARY:Faustball 3. Liga Hallenmeisterschaft in Beringen
DESCRIPTION:Spielbeginn: 08:00 Uhr \nSpielort: Sporthalle Beringen
URL:https://mrberingen.ch/event/3-liga-hallenmeisterschaft-in-beringen/
END:VEVENT
BEGIN:VEVENT
DTSTART;VALUE=DATE:20251025
DTEND;VALUE=DATE:20251026
DTSTAMP:20260423T011008
CREATED:20250103T174622Z
LAST-MODIFIED:20250103T174622Z
UID:3829-1761350400-1761436799@mrberingen.ch
SUMMARY:Herbstwanderung Turnveteranen
DESCRIPTION:
URL:https://mrberingen.ch/event/herbstwanderung-turnveteranen/
END:VEVENT
BEGIN:VEVENT
DTSTART;TZID=UTC:20251016T184500
DTEND;TZID=UTC:20251016T235900
DTSTAMP:20260423T011008
CREATED:20250103T174553Z
LAST-MODIFIED:20250103T174556Z
UID:3827-1760640300-1760659140@mrberingen.ch
SUMMARY:Wanderung Beringer Randen (mit Nachtessen)
DESCRIPTION:Treffpunkt: 18:45 Uhr Busschleife / Brandplatz
URL:https://mrberingen.ch/event/wanderung-beringer-randen-mit-nachtessen/
END:VEVENT
BEGIN:VEVENT
DTSTART;TZID=UTC:20251009T184500
DTEND;TZID=UTC:20251009T235900
DTSTAMP:20260423T011008
CREATED:20250103T174517Z
LAST-MODIFIED:20250103T174517Z
UID:3825-1760035500-1760054340@mrberingen.ch
SUMMARY:Vollmondbummel Siblinger Randen (mit Nachtessen) mit Auto bis oberhalb Eggeweg
DESCRIPTION:Treffpunkt: 18:45 Uhr Busschleife / Brandplatz
URL:https://mrberingen.ch/event/vollmondbummel-siblinger-randen-mit-nachtessen-mit-auto-bis-oberhalb-eggeweg/
END:VEVENT
BEGIN:VEVENT
DTSTART;VALUE=DATE:20250906
DTEND;VALUE=DATE:20250908
DTSTAMP:20260423T011008
CREATED:20250103T174212Z
LAST-MODIFIED:20250126T183459Z
UID:3820-1757116800-1757289599@mrberingen.ch
SUMMARY:Männerriegenreise
DESCRIPTION:Anmeldeschluss: 1. Juni 2025
URL:https://mrberingen.ch/event/maennerriegenreise/
END:VEVENT
BEGIN:VEVENT
DTSTART;TZID=UTC:20250821T184500
DTEND;TZID=UTC:20250821T235900
DTSTAMP:20260423T011008
CREATED:20250103T174132Z
LAST-MODIFIED:20250523T134535Z
UID:3818-1755801900-1755820740@mrberingen.ch
SUMMARY:Pétanque Rhenania Neuhausen – mit Bewirtung
DESCRIPTION:Treffpunkt: 18:45 Uhr Busschleife / Brandplatz\, mit Velo
URL:https://mrberingen.ch/event/velotour-nach-neunkirch-zum-vitaparcours-anschliessend-weiterfahrt-ins-traemli-siblingen/
END:VEVENT
BEGIN:VEVENT
DTSTART;TZID=UTC:20250814T183000
DTEND;TZID=UTC:20250814T235900
DTSTAMP:20260423T011008
CREATED:20250103T174043Z
LAST-MODIFIED:20250103T174043Z
UID:3816-1755196200-1755215940@mrberingen.ch
SUMMARY:Speckessen in der Schönebueche
DESCRIPTION:Ab 18:30 Uhr Armin’s Hüttli
URL:https://mrberingen.ch/event/speckessen-in-der-schoenebueche/
END:VEVENT
BEGIN:VEVENT
DTSTART;TZID=UTC:20250812T184500
DTEND;TZID=UTC:20250812T220000
DTSTAMP:20260423T011008
CREATED:20240812T094703Z
LAST-MODIFIED:20250509T094806Z
UID:3996-1755024300-1755036000@mrberingen.ch
SUMMARY:Faustball 3. Liga in Thayngen
DESCRIPTION:Spielort Reckenwiese Thayngen \nSpielbeginn 18:45 Uhr
URL:https://mrberingen.ch/event/faustball-3-liga-in-thayngen-2/
END:VEVENT
BEGIN:VEVENT
DTSTART;TZID=UTC:20250811T190000
DTEND;TZID=UTC:20250811T220000
DTSTAMP:20260423T011008
CREATED:20240811T094546Z
LAST-MODIFIED:20250509T094700Z
UID:3994-1754938800-1754949600@mrberingen.ch
SUMMARY:Faustball 3. Liga in Schaffhausen
DESCRIPTION:Spielort Emmersberg \nSpielbeginn 19:00 Uhr
URL:https://mrberingen.ch/event/faustball-3-liga-in-schaffhausen-2/
END:VEVENT
BEGIN:VEVENT
DTSTART;TZID=UTC:20250809T100000
DTEND;TZID=UTC:20250809T235900
DTSTAMP:20260423T011008
CREATED:20250103T173959Z
LAST-MODIFIED:20250103T173959Z
UID:3814-1754733600-1754783940@mrberingen.ch
SUMMARY:Klettgau-Faustballturnier Beringen
DESCRIPTION:Weiter Infos
URL:https://mrberingen.ch/event/klettgau-faustballturnier-beringen/
END:VEVENT
BEGIN:VEVENT
DTSTART;TZID=UTC:20250807T184500
DTEND;TZID=UTC:20250807T235900
DTSTAMP:20260423T011008
CREATED:20250103T173857Z
LAST-MODIFIED:20250604T181429Z
UID:3812-1754592300-1754611140@mrberingen.ch
SUMMARY:Grillen am Rhein
DESCRIPTION:Hier Anmelden bis 31.07.2025 \n  \nProgramm Gruppe «Wanderer» \n  \nTreffpunkt: 17:25 Uhr beim Bahnhof Gleis 2 \nFahrt mit dem Zug bis St. Katharinental (umsteigen in Schaffhausen auf Gleis 1D\, Abfahrt 17:59 Uhr) \nWanderung zur Klinik\, anschliessend dem Rhein entlang durch den Scharen bis zur Petriwiese (ewa 1 ¾ Stunden). \n  \nProgramm Gruppe «Auto» \n  \nTreffpunkt: 18:45 Uhr Busschleife Brandplatz \nFahrt mit den Autos zum Parkplatz Petriwiese
URL:https://mrberingen.ch/event/petanque-rhenania-neuhausen-mit-bewirtung/
END:VEVENT
BEGIN:VEVENT
DTSTART;TZID=UTC:20250805T190000
DTEND;TZID=UTC:20250805T220000
DTSTAMP:20260423T011008
CREATED:20240805T121748Z
LAST-MODIFIED:20250724T121927Z
UID:4120-1754420400-1754431200@mrberingen.ch
SUMMARY:Faustball Regiocup in Beringen
DESCRIPTION:MR Beringen 2 : TSV Jona 3 \nSpielort: Schulhaus Zimmerberg Beringen \nSpielbeginn: 19:00 Uhr
URL:https://mrberingen.ch/event/faustball-regiocup-in-beringen/
END:VEVENT
BEGIN:VEVENT
DTSTART;TZID=UTC:20250731T183000
DTEND;TZID=UTC:20250731T235900
DTSTAMP:20260423T011008
CREATED:20250103T173816Z
LAST-MODIFIED:20250104T104515Z
UID:3810-1753986600-1754006340@mrberingen.ch
SUMMARY:Schwimmen\, Volleyball\, Essen
DESCRIPTION:Treffpunkt: 18:30 Uhr Schwimmbad Beringen
URL:https://mrberingen.ch/event/schwimmen-volleyball-essen-2/
END:VEVENT
BEGIN:VEVENT
DTSTART;TZID=UTC:20250724T183000
DTEND;TZID=UTC:20250724T235900
DTSTAMP:20260423T011008
CREATED:20250103T173740Z
LAST-MODIFIED:20250104T104531Z
UID:3808-1753381800-1753401540@mrberingen.ch
SUMMARY:Schwimmen\, Volleyball\, Essen
DESCRIPTION:Treffpunkt: 18:30 Uhr Schwimmbad Beringen 
URL:https://mrberingen.ch/event/schwimmen-volleyball-essen/
END:VEVENT
BEGIN:VEVENT
DTSTART;TZID=UTC:20250717T184500
DTEND;TZID=UTC:20250717T235900
DTSTAMP:20260423T011008
CREATED:20250103T173647Z
LAST-MODIFIED:20250523T134359Z
UID:3806-1752777900-1752796740@mrberingen.ch
SUMMARY:Schwimmen\, Volleyball\, Essen
DESCRIPTION:Treffpunkt 18:30 Uhr Schwimmbad Beringen
URL:https://mrberingen.ch/event/minigolf-neuhausen/
END:VEVENT
BEGIN:VEVENT
DTSTART;TZID=UTC:20250716T190000
DTEND;TZID=UTC:20250716T210000
DTSTAMP:20260423T011008
CREATED:20240716T075110Z
LAST-MODIFIED:20250714T075328Z
UID:4115-1752692400-1752699600@mrberingen.ch
SUMMARY:Faustball Regio-Cup in Beringen
DESCRIPTION:MR Beringen :FBR Dägerlen \nSpielort: Schulhaus Zimmerberg \nBeginn: 19:00 Uhr
URL:https://mrberingen.ch/event/faustball-regio-cup-in-beringen/
END:VEVENT
BEGIN:VEVENT
DTSTART;TZID=UTC:20250710T184500
DTEND;TZID=UTC:20250710T235900
DTSTAMP:20260423T011008
CREATED:20250103T173538Z
LAST-MODIFIED:20250523T134459Z
UID:3803-1752173100-1752191940@mrberingen.ch
SUMMARY:Minigolf Neuhausen
DESCRIPTION:Treffpunkt: 18:45 Uhr Busschleife / Brandplatz\, mit Velo \n  \n 
URL:https://mrberingen.ch/event/bootstour-rheinfall-mit-bewirtung-badehosen/
END:VEVENT
END:VCALENDAR