BEGIN:VCALENDAR
VERSION:2.0
PRODID:-// - ECPv6.15.20//NONSGML v1.0//EN
CALSCALE:GREGORIAN
METHOD:PUBLISH
X-ORIGINAL-URL:https://mrberingen.ch
X-WR-CALDESC:Veranstaltungen für 
REFRESH-INTERVAL;VALUE=DURATION:PT1H
X-Robots-Tag:noindex
X-PUBLISHED-TTL:PT1H
BEGIN:VTIMEZONE
TZID:UTC
BEGIN:STANDARD
TZOFFSETFROM:+0000
TZOFFSETTO:+0000
TZNAME:UTC
DTSTART:20250101T000000
END:STANDARD
END:VTIMEZONE
BEGIN:VEVENT
DTSTART;TZID=UTC:20260423T184500
DTEND;TZID=UTC:20260423T235900
DTSTAMP:20260423T025302
CREATED:20251230T100514Z
LAST-MODIFIED:20251230T101423Z
UID:4335-1776969900-1776988740@mrberingen.ch
SUMMARY:Velotour durch den Klettgau
DESCRIPTION:Treffpunkt: 18:45 Uhr Busschleife / Brandplatz
URL:https://mrberingen.ch/event/velotour-durch-den-klettgau-2/
END:VEVENT
END:VCALENDAR