BEGIN:VCALENDAR
VERSION:2.0
PRODID:-// - ECPv6.15.20//NONSGML v1.0//EN
CALSCALE:GREGORIAN
METHOD:PUBLISH
X-ORIGINAL-URL:https://mrberingen.ch
X-WR-CALDESC:Veranstaltungen für 
REFRESH-INTERVAL;VALUE=DURATION:PT1H
X-Robots-Tag:noindex
X-PUBLISHED-TTL:PT1H
BEGIN:VTIMEZONE
TZID:UTC
BEGIN:STANDARD
TZOFFSETFROM:+0000
TZOFFSETTO:+0000
TZNAME:UTC
DTSTART:20250101T000000
END:STANDARD
END:VTIMEZONE
BEGIN:VEVENT
DTSTART;TZID=UTC:20260608T184500
DTEND;TZID=UTC:20260608T223000
DTSTAMP:20260423T065322
CREATED:20250608T161239Z
LAST-MODIFIED:20260328T161350Z
UID:4466-1780944300-1780957800@mrberingen.ch
SUMMARY:3. Liga Faustballmeisterschaft in Schaffhausen
DESCRIPTION:Sportplatz Emmersberg Schaffhausen \nSpielbeginn 18:45 Uhr
URL:https://mrberingen.ch/event/3-liga-faustballmeisterschaft-in-schaffhausen/
END:VEVENT
END:VCALENDAR