BEGIN:VCALENDAR
VERSION:2.0
PRODID:-// - ECPv6.15.20//NONSGML v1.0//EN
CALSCALE:GREGORIAN
METHOD:PUBLISH
X-ORIGINAL-URL:https://mrberingen.ch
X-WR-CALDESC:Veranstaltungen für 
REFRESH-INTERVAL;VALUE=DURATION:PT1H
X-Robots-Tag:noindex
X-PUBLISHED-TTL:PT1H
BEGIN:VTIMEZONE
TZID:UTC
BEGIN:STANDARD
TZOFFSETFROM:+0000
TZOFFSETTO:+0000
TZNAME:UTC
DTSTART:20250101T000000
END:STANDARD
END:VTIMEZONE
BEGIN:VEVENT
DTSTART;TZID=UTC:20260606T100000
DTEND;TZID=UTC:20260606T130000
DTSTAMP:20260423T065253
CREATED:20250606T160557Z
LAST-MODIFIED:20260328T161211Z
UID:4458-1780740000-1780750800@mrberingen.ch
SUMMARY:2. Liga Faustballmeisterschaft in Jona
DESCRIPTION:Sportplatz Grünfeld Jona \nSpielbeginn 10:00 Uhr
URL:https://mrberingen.ch/event/2-liga-feldmeisterschaft-in-jona/
END:VEVENT
END:VCALENDAR