BEGIN:VCALENDAR
VERSION:2.0
PRODID:-// - ECPv6.15.20//NONSGML v1.0//EN
CALSCALE:GREGORIAN
METHOD:PUBLISH
X-ORIGINAL-URL:https://mrberingen.ch
X-WR-CALDESC:Veranstaltungen für 
REFRESH-INTERVAL;VALUE=DURATION:PT1H
X-Robots-Tag:noindex
X-PUBLISHED-TTL:PT1H
BEGIN:VTIMEZONE
TZID:UTC
BEGIN:STANDARD
TZOFFSETFROM:+0000
TZOFFSETTO:+0000
TZNAME:UTC
DTSTART:20250101T000000
END:STANDARD
END:VTIMEZONE
BEGIN:VEVENT
DTSTART;TZID=UTC:20260509T100000
DTEND;TZID=UTC:20260509T130000
DTSTAMP:20260423T045757
CREATED:20250509T160735Z
LAST-MODIFIED:20260328T160927Z
UID:4461-1778320800-1778331600@mrberingen.ch
SUMMARY:2. Liga Faustballmeisterschaft in Bäretswil
DESCRIPTION:Schulhaus Tannacher Bäretswil \nSpielbeginn 10:00 Uhr
URL:https://mrberingen.ch/event/2-liga-faustballmeisterschaft-in-baeretswil/
END:VEVENT
END:VCALENDAR